BEGIN:VCALENDAR
VERSION:2.0
PRODID:SchoolNow
CALSCALE:GREGORIAN
BEGIN:VEVENT
UID:f2097b7a-c2ae-11f0-b871-0a58a9feac02
DTSTAMP:20260421T150540Z
SUMMARY:JV/V Girls Basketball Practice
LOCATION:Montezuma-Cortez High School\, 418 Sligo St\, Cortez\, CO 81321\, 
 USA
URL;VALUE=URI:https://www.cortez.k12.co.us/our-schools/mchs/calendar/879778
 0/jv-v-girls-basketball-practice
DTSTART:20251230T004500Z
DTEND:20251230T033000Z
END:VEVENT
END:VCALENDAR
