BEGIN:VCALENDAR
VERSION:2.0
PRODID:SchoolNow
CALSCALE:GREGORIAN
BEGIN:VEVENT
UID:f226f542-c2ae-11f0-8c1e-0a58a9feac02
DTSTAMP:20260421T150539Z
SUMMARY:JV/V Boys Basketball Practice
LOCATION:Montezuma-Cortez High School\, 418 Sligo St\, Cortez\, CO 81321\, 
 USA
URL;VALUE=URI:https://www.cortez.k12.co.us/our-schools/mchs/calendar/879781
 4/jv-v-boys-basketball-practice
DTSTART:20260112T233000Z
DTEND:20260113T013000Z
END:VEVENT
END:VCALENDAR
