BEGIN:VCALENDAR
VERSION:2.0
PRODID:SchoolNow
CALSCALE:GREGORIAN
BEGIN:VEVENT
UID:f253bdb6-c2ae-11f0-b07b-0a58a9feac02
DTSTAMP:20260421T150539Z
SUMMARY:C Girls Basketball Practice
LOCATION:Montezuma-Cortez High School\, 418 Sligo St\, Cortez\, CO 81321\, 
 USA
URL;VALUE=URI:https://www.cortez.k12.co.us/our-schools/mchs/calendar/879784
 8/c-girls-basketball-practice
DTSTART:20251224T233000Z
DTEND:20251225T013000Z
END:VEVENT
END:VCALENDAR
