BEGIN:VCALENDAR
VERSION:2.0
PRODID:SchoolNow
CALSCALE:GREGORIAN
BEGIN:VEVENT
UID:f253ea5c-c2ae-11f0-afac-0a58a9feac02
DTSTAMP:20260421T150539Z
SUMMARY:JV/V Boys Basketball Practice
LOCATION:Montezuma-Cortez High School\, 418 Sligo St\, Cortez\, CO 81321\, 
 USA
URL;VALUE=URI:https://www.cortez.k12.co.us/our-schools/mchs/calendar/879788
 8/jv-v-boys-basketball-practice
DTSTART:20251223T013000Z
DTEND:20251223T033000Z
END:VEVENT
END:VCALENDAR
