BEGIN:VCALENDAR
VERSION:2.0
PRODID:SchoolNow
CALSCALE:GREGORIAN
BEGIN:VEVENT
UID:f28e878e-c2ae-11f0-82c9-0a58a9feac02
DTSTAMP:20260421T150540Z
SUMMARY:Girls & Boys Wrestling Practice
LOCATION:Montezuma-Cortez High School\, 418 Sligo St\, Cortez\, CO 81321\, 
 USA
URL;VALUE=URI:https://www.cortez.k12.co.us/our-schools/mchs/calendar/879792
 8/girls-boys-wrestling-practice
DTSTART:20260106T234500Z
DTEND:20260107T020000Z
END:VEVENT
END:VCALENDAR
