BEGIN:VCALENDAR
VERSION:2.0
PRODID:SchoolNow
CALSCALE:GREGORIAN
BEGIN:VEVENT
UID:f28e9346-c2ae-11f0-bd3f-0a58a9feac02
DTSTAMP:20260421T150540Z
SUMMARY:Girls & Boys Wrestling Practice
LOCATION:Montezuma-Cortez High School\, 418 Sligo St\, Cortez\, CO 81321\, 
 USA
URL;VALUE=URI:https://www.cortez.k12.co.us/our-schools/mchs/calendar/879794
 1/girls-boys-wrestling-practice
DTSTART:20260128T234500Z
DTEND:20260129T020000Z
END:VEVENT
END:VCALENDAR
