BEGIN:VCALENDAR
VERSION:2.0
PRODID:SchoolNow
CALSCALE:GREGORIAN
BEGIN:VEVENT
UID:f2eb58e2-c2ae-11f0-8342-0a58a9feac02
DTSTAMP:20260421T150539Z
SUMMARY:C Boys Basketball Practice
LOCATION:Montezuma-Cortez High School\, 418 Sligo St\, Cortez\, CO 81321\, 
 USA
URL;VALUE=URI:https://www.cortez.k12.co.us/our-schools/mchs/calendar/879800
 8/c-boys-basketball-practice
DTSTART:20251230T013000Z
DTEND:20251230T033000Z
END:VEVENT
END:VCALENDAR
