BEGIN:VCALENDAR
VERSION:2.0
PRODID:SchoolNow
CALSCALE:GREGORIAN
BEGIN:VEVENT
UID:f2eb8218-c2ae-11f0-87fd-0a58a9feac02
DTSTAMP:20260421T150540Z
SUMMARY:JV/V Girls Basketball Practice
LOCATION:Montezuma-Cortez High School\, 418 Sligo St\, Cortez\, CO 81321\, 
 USA
URL;VALUE=URI:https://www.cortez.k12.co.us/our-schools/mchs/calendar/879805
 0/jv-v-girls-basketball-practice
DTSTART:20251222T233000Z
DTEND:20251223T021500Z
END:VEVENT
END:VCALENDAR
