BEGIN:VCALENDAR
VERSION:2.0
PRODID:SchoolNow
CALSCALE:GREGORIAN
BEGIN:VEVENT
UID:f2eb84e8-c2ae-11f0-bbe8-0a58a9feac02
DTSTAMP:20260421T150540Z
SUMMARY:JV/V Girls Basketball Practice
LOCATION:Montezuma-Cortez High School\, 418 Sligo St\, Cortez\, CO 81321\, 
 USA
URL;VALUE=URI:https://www.cortez.k12.co.us/our-schools/mchs/calendar/879805
 3/jv-v-girls-basketball-practice
DTSTART:20260105T233000Z
DTEND:20260106T021500Z
END:VEVENT
END:VCALENDAR
