BEGIN:VCALENDAR
VERSION:2.0
PRODID:SchoolNow
CALSCALE:GREGORIAN
BEGIN:VEVENT
UID:72ff449a-f0e4-11f0-9146-0a58a9feac02
DTSTAMP:20260421T150539Z
SUMMARY:Panthers Boys Wrestling @ Aztec
LOCATION:McGee Park San Juan County Fairgrounds\, 17 County Rd 5500\, Farmi
 ngton\, NM 87401\, USA
URL;VALUE=URI:https://www.cortez.k12.co.us/our-schools/mchs/calendar/883582
 3/panthers-boys-wrestling-aztec
DTSTART:20260116T131500Z
DTEND:20260117T010000Z
END:VEVENT
END:VCALENDAR
