BEGIN:VCALENDAR
VERSION:2.0
PRODID:SchoolNow
CALSCALE:GREGORIAN
BEGIN:VEVENT
UID:72ff4828-f0e4-11f0-8074-0a58a9feac02
DTSTAMP:20260421T150539Z
SUMMARY:Panther C-Team Basketball @ Durango
LOCATION:Durango High School\, 2390 Main Ave\, Durango\, CO 81301\, USA
URL;VALUE=URI:https://www.cortez.k12.co.us/our-schools/mchs/calendar/883582
 4/panther-c-team-basketball-durango
DTSTART:20260120T223000Z
DTEND:20260121T033000Z
END:VEVENT
END:VCALENDAR
