BEGIN:VCALENDAR
VERSION:2.0
PRODID:SchoolNow
CALSCALE:GREGORIAN
BEGIN:VEVENT
UID:72ff4990-f0e4-11f0-92da-0a58a9feac02
DTSTAMP:20260421T150539Z
SUMMARY:Panthers Boys JV/Varsity Basketball v. Montrose
LOCATION:Montezuma-Cortez High School\, 418 Sligo St\, Cortez\, CO 81321\, 
 USA
URL;VALUE=URI:https://www.cortez.k12.co.us/our-schools/mchs/calendar/883582
 5/panthers-boys-jv-varsity-basketball-v-montrose
DTSTART:20260120T233000Z
DTEND:20260121T033000Z
END:VEVENT
END:VCALENDAR
