BEGIN:VCALENDAR
VERSION:2.0
PRODID:SchoolNow
CALSCALE:GREGORIAN
BEGIN:VEVENT
UID:72ff4b84-f0e4-11f0-ac61-0a58a9feac02
DTSTAMP:20260421T150539Z
SUMMARY:Panthers Boys JV/Varsity Basketball @ Pagosa Springs
LOCATION:Pagosa Springs High\, 800 S 8th St\, Pagosa Springs\, CO 81147\, U
 SA
URL;VALUE=URI:https://www.cortez.k12.co.us/our-schools/mchs/calendar/883582
 6/panthers-boys-jv-varsity-basketball-pagosa-springs
DTSTART:20260124T163000Z
DTEND:20260125T010000Z
END:VEVENT
END:VCALENDAR
