BEGIN:VCALENDAR
VERSION:2.0
PRODID:SchoolNow
CALSCALE:GREGORIAN
BEGIN:VEVENT
UID:72ff4e36-f0e4-11f0-bc04-0a58a9feac02
DTSTAMP:20260421T150539Z
SUMMARY:Softball Banquet
LOCATION:Montezuma-Cortez High School\, 418 Sligo St\, Cortez\, CO 81321\, 
 USA
URL;VALUE=URI:https://www.cortez.k12.co.us/our-schools/mchs/calendar/883582
 8/softball-banquet
DTSTART:20260115T013000Z
DTEND:20260115T030000Z
END:VEVENT
END:VCALENDAR
