BEGIN:VCALENDAR
VERSION:2.0
PRODID:SchoolNow
CALSCALE:GREGORIAN
BEGIN:VEVENT
UID:72ff4fc6-f0e4-11f0-bdf2-0a58a9feac02
DTSTAMP:20260421T150539Z
SUMMARY:Panthers Girls JV  & Varsity Basketball v. Centauri
LOCATION:Montezuma-Cortez High School\, 418 Sligo St\, Cortez\, CO 81321\, 
 USA
URL;VALUE=URI:https://www.cortez.k12.co.us/our-schools/mchs/calendar/883582
 9/panthers-girls-jv-varsity-basketball-v-centauri
DTSTART:20260116T223000Z
DTEND:20260117T030000Z
END:VEVENT
END:VCALENDAR
