BEGIN:VCALENDAR
VERSION:2.0
PRODID:SchoolNow
CALSCALE:GREGORIAN
BEGIN:VEVENT
UID:72ff50e8-f0e4-11f0-830d-0a58a9feac02
DTSTAMP:20260421T150539Z
SUMMARY:Knowledge Bowl @ Telluride
LOCATION:Telluride Middle-High School\, 725 W Colorado Ave\, Telluride\, CO
  81435\, USA
URL;VALUE=URI:https://www.cortez.k12.co.us/our-schools/mchs/calendar/883583
 0/knowledge-bowl-telluride
DTSTART:20260120T200000Z
DTEND:20260121T010000Z
END:VEVENT
END:VCALENDAR
