BEGIN:VCALENDAR
VERSION:2.0
PRODID:SchoolNow
CALSCALE:GREGORIAN
BEGIN:VEVENT
UID:72ff52aa-f0e4-11f0-b8a3-0a58a9feac02
DTSTAMP:20260421T150539Z
SUMMARY:Panthers Boys Basketball v. Alamosa
LOCATION:Montezuma-Cortez High School\, 418 Sligo St\, Cortez\, CO 81321\, 
 USA
URL;VALUE=URI:https://www.cortez.k12.co.us/our-schools/mchs/calendar/883583
 1/panthers-boys-basketball-v-alamosa
DTSTART:20260117T180000Z
DTEND:20260117T223000Z
END:VEVENT
END:VCALENDAR
