BEGIN:VCALENDAR
VERSION:2.0
PRODID:SchoolNow
CALSCALE:GREGORIAN
BEGIN:VEVENT
UID:72ff55f2-f0e4-11f0-9034-0a58a9feac02
DTSTAMP:20260421T150539Z
SUMMARY:Panthers Boys & Girls Wrestling @ Bayfield
LOCATION:Bayfield High School\, 800 Co Rd 501\, Bayfield\, CO 81122\, USA
URL;VALUE=URI:https://www.cortez.k12.co.us/our-schools/mchs/calendar/883583
 3/panthers-boys-girls-wrestling-bayfield
DTSTART:20260123T213000Z
DTEND:20260124T030000Z
END:VEVENT
END:VCALENDAR
