BEGIN:VCALENDAR
VERSION:2.0
PRODID:SchoolNow
CALSCALE:GREGORIAN
BEGIN:VEVENT
UID:72ff5728-f0e4-11f0-8ef1-0a58a9feac02
DTSTAMP:20260421T150539Z
SUMMARY:Panthers Boys & Girls Wrestling @ Blanding
LOCATION:San Juan High School\, 311 N 100 E\, Blanding\, UT 84511\, USA
URL;VALUE=URI:https://www.cortez.k12.co.us/our-schools/mchs/calendar/883583
 4/panthers-boys-girls-wrestling-blanding
DTSTART:20260115T203000Z
DTEND:20260116T030000Z
END:VEVENT
END:VCALENDAR
