BEGIN:VCALENDAR
VERSION:2.0
PRODID:SchoolNow
CALSCALE:GREGORIAN
BEGIN:VEVENT
UID:72ff584a-f0e4-11f0-9f9f-0a58a9feac02
DTSTAMP:20260421T150539Z
SUMMARY:Panthers Boys JV  & Varsity Basketball v. Centauri
LOCATION:Montezuma-Cortez High School\, 418 Sligo St\, Cortez\, CO 81321\, 
 USA
URL;VALUE=URI:https://www.cortez.k12.co.us/our-schools/mchs/calendar/883583
 5/panthers-boys-jv-varsity-basketball-v-centauri
DTSTART:20260116T223000Z
DTEND:20260117T030000Z
END:VEVENT
END:VCALENDAR
