BEGIN:VCALENDAR
VERSION:2.0
PRODID:SchoolNow
CALSCALE:GREGORIAN
BEGIN:VEVENT
UID:72ff594e-f0e4-11f0-961b-0a58a9feac02
DTSTAMP:20260421T150539Z
SUMMARY:Panthers Boys & Girls Wrestling @ Ignacio
LOCATION:Ignacio High School\, 315 Ignacio St\, Ignacio\, CO 81137\, USA
URL;VALUE=URI:https://www.cortez.k12.co.us/our-schools/mchs/calendar/883583
 6/panthers-boys-girls-wrestling-ignacio
DTSTART:20260124T123000Z
DTEND:20260125T000000Z
END:VEVENT
END:VCALENDAR
