BEGIN:VCALENDAR
VERSION:2.0
PRODID:SchoolNow
CALSCALE:GREGORIAN
BEGIN:VEVENT
UID:72ff5a34-f0e4-11f0-90f4-0a58a9feac02
DTSTAMP:20260421T150539Z
SUMMARY:Band @ IML Competition
LOCATION:Monte Vista High School\, 295 E Prospect Ave\, Monte Vista\, CO 81
 144\, USA
URL;VALUE=URI:https://www.cortez.k12.co.us/our-schools/mchs/calendar/883583
 7/band-iml-competition
DTSTART:20260116T113000Z
DTEND:20260117T030000Z
END:VEVENT
END:VCALENDAR
