BEGIN:VCALENDAR
VERSION:2.0
PRODID:SchoolNow
CALSCALE:GREGORIAN
BEGIN:VEVENT
UID:72ff5b7e-f0e4-11f0-ab64-0a58a9feac02
DTSTAMP:20260421T150539Z
SUMMARY:FFA @ National Stock Show
URL;VALUE=URI:https://www.cortez.k12.co.us/our-schools/mchs/calendar/883583
 8/ffa-national-stock-show
DTSTART;VALUE=DATE:20260120
DTEND;VALUE=DATE:20260124
END:VEVENT
END:VCALENDAR
