BEGIN:VCALENDAR
VERSION:2.0
PRODID:SchoolNow
CALSCALE:GREGORIAN
BEGIN:VEVENT
UID:72ff5c78-f0e4-11f0-96cc-0a58a9feac02
DTSTAMP:20260421T150539Z
SUMMARY:Panthers Girls JV/Varsity Basketball v. Montrose
LOCATION:Montezuma-Cortez High School\, 418 Sligo St\, Cortez\, CO 81321\, 
 USA
URL;VALUE=URI:https://www.cortez.k12.co.us/our-schools/mchs/calendar/883583
 9/panthers-girls-jv-varsity-basketball-v-montrose
DTSTART:20260120T233000Z
DTEND:20260121T033000Z
END:VEVENT
END:VCALENDAR
