BEGIN:VCALENDAR
VERSION:2.0
PRODID:SchoolNow
CALSCALE:GREGORIAN
BEGIN:VEVENT
UID:72ff5dae-f0e4-11f0-8073-0a58a9feac02
DTSTAMP:20260421T150539Z
SUMMARY:Panthers Boys & Girls Wrestling @ Aztec
LOCATION:McGee Park San Juan County Fairgrounds\, 17 County Rd 5500\, Farmi
 ngton\, NM 87401\, USA
URL;VALUE=URI:https://www.cortez.k12.co.us/our-schools/mchs/calendar/883584
 0/panthers-boys-girls-wrestling-aztec
DTSTART:20260117T131500Z
DTEND:20260118T010000Z
END:VEVENT
END:VCALENDAR
