BEGIN:VCALENDAR
VERSION:2.0
PRODID:SchoolNow
CALSCALE:GREGORIAN
BEGIN:VEVENT
UID:73da2ede-f0e4-11f0-9d21-0a58a9feac02
DTSTAMP:20260421T150540Z
SUMMARY:Boys Basketball Practice
LOCATION:Montezuma-Cortez High School\, 418 Sligo St\, Cortez\, CO 81321\, 
 USA
URL;VALUE=URI:https://www.cortez.k12.co.us/our-schools/mchs/calendar/883584
 5/boys-basketball-practice
DTSTART:20251223T013000Z
DTEND:20251223T033000Z
END:VEVENT
END:VCALENDAR
