BEGIN:VCALENDAR
VERSION:2.0
PRODID:SchoolNow
CALSCALE:GREGORIAN
BEGIN:VEVENT
UID:73da3276-f0e4-11f0-a43a-0a58a9feac02
DTSTAMP:20260421T150540Z
SUMMARY:Boys Basketball Practice
LOCATION:Montezuma-Cortez High School\, 418 Sligo St\, Cortez\, CO 81321\, 
 USA
URL;VALUE=URI:https://www.cortez.k12.co.us/our-schools/mchs/calendar/883584
 9/boys-basketball-practice
DTSTART:20260106T013000Z
DTEND:20260106T033000Z
END:VEVENT
END:VCALENDAR
