BEGIN:VCALENDAR
VERSION:2.0
PRODID:SchoolNow
CALSCALE:GREGORIAN
BEGIN:VEVENT
UID:73da3c1c-f0e4-11f0-b4ea-0a58a9feac02
DTSTAMP:20260421T150540Z
SUMMARY:Boys Basketball Practice
LOCATION:Montezuma-Cortez High School\, 418 Sligo St\, Cortez\, CO 81321\, 
 USA
URL;VALUE=URI:https://www.cortez.k12.co.us/our-schools/mchs/calendar/883585
 2/boys-basketball-practice
DTSTART:20260109T013000Z
DTEND:20260109T033000Z
END:VEVENT
END:VCALENDAR
