BEGIN:VCALENDAR
VERSION:2.0
PRODID:SchoolNow
CALSCALE:GREGORIAN
BEGIN:VEVENT
UID:73ff579a-f0e4-11f0-b4ea-0a58a9feac02
DTSTAMP:20260421T150539Z
SUMMARY:Boys Basketball Practice
LOCATION:Montezuma-Cortez High School\, 418 Sligo St\, Cortez\, CO 81321\, 
 USA
URL;VALUE=URI:https://www.cortez.k12.co.us/our-schools/mchs/calendar/883586
 8/boys-basketball-practice
DTSTART:20260126T233000Z
DTEND:20260127T013000Z
END:VEVENT
END:VCALENDAR
