BEGIN:VCALENDAR
VERSION:2.0
PRODID:SchoolNow
CALSCALE:GREGORIAN
BEGIN:VEVENT
UID:73ff5e16-f0e4-11f0-a55d-0a58a9feac02
DTSTAMP:20260421T150539Z
SUMMARY:Boys Basketball Practice
LOCATION:Montezuma-Cortez High School\, 418 Sligo St\, Cortez\, CO 81321\, 
 USA
URL;VALUE=URI:https://www.cortez.k12.co.us/our-schools/mchs/calendar/883587
 5/boys-basketball-practice
DTSTART:20260212T233000Z
DTEND:20260213T013000Z
END:VEVENT
END:VCALENDAR
