BEGIN:VCALENDAR
VERSION:2.0
PRODID:SchoolNow
CALSCALE:GREGORIAN
BEGIN:VEVENT
UID:73ff62c6-f0e4-11f0-96d1-0a58a9feac02
DTSTAMP:20260421T090041Z
SUMMARY:Boys Basketball Practice
LOCATION:Montezuma-Cortez High School\, 418 Sligo St\, Cortez\, CO 81321\, 
 USA
URL;VALUE=URI:https://www.cortez.k12.co.us/our-schools/mchs/calendar/883588
 0/boys-basketball-practice
DTSTART:20260309T223000Z
DTEND:20260310T003000Z
END:VEVENT
END:VCALENDAR
