BEGIN:VCALENDAR
VERSION:2.0
PRODID:SchoolNow
CALSCALE:GREGORIAN
BEGIN:VEVENT
UID:73ff74fa-f0e4-11f0-a53e-0a58a9feac02
DTSTAMP:20260421T150539Z
SUMMARY:Girls Basketball Practice
LOCATION:Montezuma-Cortez High School\, 418 Sligo St\, Cortez\, CO 81321\, 
 USA
URL;VALUE=URI:https://www.cortez.k12.co.us/our-schools/mchs/calendar/883589
 6/girls-basketball-practice
DTSTART:20260119T233000Z
DTEND:20260120T013000Z
END:VEVENT
END:VCALENDAR
