BEGIN:VCALENDAR
VERSION:2.0
PRODID:SchoolNow
CALSCALE:GREGORIAN
BEGIN:VEVENT
UID:74316fbe-f0e4-11f0-aba1-0a58a9feac02
DTSTAMP:20260421T150539Z
SUMMARY:Girls Basketball Practice
LOCATION:Montezuma-Cortez High School\, 418 Sligo St\, Cortez\, CO 81321\, 
 USA
URL;VALUE=URI:https://www.cortez.k12.co.us/our-schools/mchs/calendar/883591
 1/girls-basketball-practice
DTSTART:20260127T013000Z
DTEND:20260127T033000Z
END:VEVENT
END:VCALENDAR
