BEGIN:VCALENDAR
VERSION:2.0
PRODID:SchoolNow
CALSCALE:GREGORIAN
BEGIN:VEVENT
UID:74318260-f0e4-11f0-bdf7-0a58a9feac02
DTSTAMP:20260421T090041Z
SUMMARY:Girls Basketball Practice
LOCATION:Montezuma-Cortez High School\, 418 Sligo St\, Cortez\, CO 81321\, 
 USA
URL;VALUE=URI:https://www.cortez.k12.co.us/our-schools/mchs/calendar/883592
 5/girls-basketball-practice
DTSTART:20260312T003000Z
DTEND:20260312T023000Z
END:VEVENT
END:VCALENDAR
