BEGIN:VCALENDAR
VERSION:2.0
PRODID:SchoolNow
CALSCALE:GREGORIAN
BEGIN:VEVENT
UID:6e52c2ac-f17d-11f0-9b2d-0a58a9feac02
DTSTAMP:20260421T150539Z
SUMMARY:Panthers Boys Basketball v. Bayfield
LOCATION:Montezuma-Cortez High School\, 418 Sligo St\, Cortez\, CO 81321\, 
 USA
URL;VALUE=URI:https://www.cortez.k12.co.us/our-schools/mchs/calendar/883625
 2/panthers-boys-basketball-v-bayfield
DTSTART:20260227T233000Z
DTEND:20260228T043000Z
END:VEVENT
END:VCALENDAR
