BEGIN:VCALENDAR
VERSION:2.0
PRODID:SchoolNow
CALSCALE:GREGORIAN
BEGIN:VEVENT
UID:6e52c748-f17d-11f0-98fc-0a58a9feac02
DTSTAMP:20260421T150539Z
SUMMARY:Panther Girls Varsity Basketball @ Dove Creek
LOCATION:Dolores County High School\, 525 Main St\, Dove Creek\, CO 81324\,
  USA
URL;VALUE=URI:https://www.cortez.k12.co.us/our-schools/mchs/calendar/883625
 4/panther-girls-varsity-basketball-dove-creek
DTSTART:20260213T223000Z
DTEND:20260214T020000Z
END:VEVENT
END:VCALENDAR
