BEGIN:VCALENDAR
VERSION:2.0
PRODID:SchoolNow
CALSCALE:GREGORIAN
BEGIN:VEVENT
UID:6e52c874-f17d-11f0-95f7-0a58a9feac02
DTSTAMP:20260421T150539Z
SUMMARY:Panthers Boys Basketball @ Centauri
LOCATION:Centauri High School\, 17889 US Hwy 285\, La Jara\, CO 81140\, USA
URL;VALUE=URI:https://www.cortez.k12.co.us/our-schools/mchs/calendar/883625
 5/panthers-boys-basketball-centauri
DTSTART:20260206T170000Z
DTEND:20260207T040000Z
END:VEVENT
END:VCALENDAR
