BEGIN:VCALENDAR
VERSION:2.0
PRODID:SchoolNow
CALSCALE:GREGORIAN
BEGIN:VEVENT
UID:6e52cdb0-f17d-11f0-b713-0a58a9feac02
DTSTAMP:20260421T150539Z
SUMMARY:Panther Boys Wrestling @ Regionals
LOCATION:Delta High School\, 1400 Pioneer Rd\, Delta\, CO 81416\, USA
URL;VALUE=URI:https://www.cortez.k12.co.us/our-schools/mchs/calendar/883625
 9/panther-boys-wrestling-regionals
DTSTART;VALUE=DATE:20260213
DTEND;VALUE=DATE:20260215
END:VEVENT
END:VCALENDAR
