BEGIN:VCALENDAR
VERSION:2.0
PRODID:SchoolNow
CALSCALE:GREGORIAN
BEGIN:VEVENT
UID:6e52cf90-f17d-11f0-b97b-0a58a9feac02
DTSTAMP:20260421T150539Z
SUMMARY:Wrestling State Tournament
LOCATION:Denver\, CO\, USA
URL;VALUE=URI:https://www.cortez.k12.co.us/our-schools/mchs/calendar/883626
 1/wrestling-state-tournament
DTSTART;VALUE=DATE:20260219
DTEND;VALUE=DATE:20260222
END:VEVENT
END:VCALENDAR
