BEGIN:VCALENDAR
VERSION:2.0
PRODID:SchoolNow
CALSCALE:GREGORIAN
BEGIN:VEVENT
UID:6e52d076-f17d-11f0-88d8-0a58a9feac02
DTSTAMP:20260421T150539Z
SUMMARY:Panther Boys C/JV Basketball @ Dolores
LOCATION:Dolores High School\, 1301 Central Ave\, Dolores\, CO 81323\, USA
URL;VALUE=URI:https://www.cortez.k12.co.us/our-schools/mchs/calendar/883626
 2/panther-boys-c-jv-basketball-dolores
DTSTART:20260123T200000Z
DTEND:20260124T000000Z
END:VEVENT
END:VCALENDAR
