BEGIN:VCALENDAR
VERSION:2.0
PRODID:SchoolNow
CALSCALE:GREGORIAN
BEGIN:VEVENT
UID:6e52d184-f17d-11f0-8ad7-0a58a9feac02
DTSTAMP:20260421T150539Z
SUMMARY:Panthers Boys Basketball @ Monte Vista
LOCATION:Monte Vista High School\, 295 E Prospect Ave\, Monte Vista\, CO 81
 144\, USA
URL;VALUE=URI:https://www.cortez.k12.co.us/our-schools/mchs/calendar/883626
 3/panthers-boys-basketball-monte-vista
DTSTART:20260130T170000Z
DTEND:20260131T080000Z
END:VEVENT
END:VCALENDAR
