BEGIN:VCALENDAR
VERSION:2.0
PRODID:SchoolNow
CALSCALE:GREGORIAN
BEGIN:VEVENT
UID:6e52d2a6-f17d-11f0-b344-0a58a9feac02
DTSTAMP:20260421T150539Z
SUMMARY:Panther Girls Varsity Basketball @ Mancos
LOCATION:District 6 High School\, 355 Grand Ave\, Mancos\, CO 81328\, USA
URL;VALUE=URI:https://www.cortez.k12.co.us/our-schools/mchs/calendar/883626
 4/panther-girls-varsity-basketball-mancos
DTSTART:20260204T004500Z
DTEND:20260204T033000Z
END:VEVENT
END:VCALENDAR
