BEGIN:VCALENDAR
VERSION:2.0
PRODID:SchoolNow
CALSCALE:GREGORIAN
BEGIN:VEVENT
UID:6e52d47c-f17d-11f0-9f4e-0a58a9feac02
DTSTAMP:20260421T150539Z
SUMMARY:Panthers Girls Basketball @ Bayfield
LOCATION:Bayfield High School\, 800 Co Rd 501\, Bayfield\, CO 81122\, USA
URL;VALUE=URI:https://www.cortez.k12.co.us/our-schools/mchs/calendar/883626
 6/panthers-girls-basketball-bayfield
DTSTART:20260131T203000Z
DTEND:20260201T040000Z
END:VEVENT
END:VCALENDAR
