BEGIN:VCALENDAR
VERSION:2.0
PRODID:SchoolNow
CALSCALE:GREGORIAN
BEGIN:VEVENT
UID:6e52d742-f17d-11f0-97d8-0a58a9feac02
DTSTAMP:20260421T150539Z
SUMMARY:Panther Girls Wrestling @ Regionals
LOCATION:North Fork High School\, 438 Miner Wy\, Hotchkiss\, CO 81419\, USA
URL;VALUE=URI:https://www.cortez.k12.co.us/our-schools/mchs/calendar/883626
 8/panther-girls-wrestling-regionals
DTSTART;VALUE=DATE:20260213
DTEND;VALUE=DATE:20260215
END:VEVENT
END:VCALENDAR
