BEGIN:VCALENDAR
VERSION:2.0
PRODID:SchoolNow
CALSCALE:GREGORIAN
BEGIN:VEVENT
UID:6e52d88c-f17d-11f0-9b0a-0a58a9feac02
DTSTAMP:20260421T150539Z
SUMMARY:Panthers Girls Basketball @ Ignacio
LOCATION:Ignacio High School\, 315 Ignacio St\, Ignacio\, CO 81137\, USA
URL;VALUE=URI:https://www.cortez.k12.co.us/our-schools/mchs/calendar/883626
 9/panthers-girls-basketball-ignacio
DTSTART:20260217T233000Z
DTEND:20260218T050000Z
END:VEVENT
END:VCALENDAR
