BEGIN:VCALENDAR
VERSION:2.0
PRODID:SchoolNow
CALSCALE:GREGORIAN
BEGIN:VEVENT
UID:6e52d972-f17d-11f0-be74-0a58a9feac02
DTSTAMP:20260421T150539Z
SUMMARY:Panthers Girls Basketball v. Ignacio
LOCATION:Montezuma-Cortez High School\, 418 Sligo St\, Cortez\, CO 81321\, 
 USA
URL;VALUE=URI:https://www.cortez.k12.co.us/our-schools/mchs/calendar/883627
 0/panthers-girls-basketball-v-ignacio
DTSTART:20260127T233000Z
DTEND:20260128T033000Z
END:VEVENT
END:VCALENDAR
