BEGIN:VCALENDAR
VERSION:2.0
PRODID:SchoolNow
CALSCALE:GREGORIAN
BEGIN:VEVENT
UID:6e52db2a-f17d-11f0-8170-0a58a9feac02
DTSTAMP:20260421T150539Z
SUMMARY:Panthers Girls Basketball @ Alamosa
LOCATION:Centauri High School\, 17889 US Hwy 285\, La Jara\, CO 81140\, USA
URL;VALUE=URI:https://www.cortez.k12.co.us/our-schools/mchs/calendar/883627
 2/panthers-girls-basketball-alamosa
DTSTART:20260207T170000Z
DTEND:20260208T053000Z
END:VEVENT
END:VCALENDAR
