BEGIN:VCALENDAR
VERSION:2.0
PRODID:SchoolNow
CALSCALE:GREGORIAN
BEGIN:VEVENT
UID:6edf0b22-f17d-11f0-b0a6-0a58a9feac02
DTSTAMP:20260421T150539Z
SUMMARY:Panthers Boys Basketball @ Bayfield
LOCATION:Bayfield High School\, 800 Co Rd 501\, Bayfield\, CO 81122\, USA
URL;VALUE=URI:https://www.cortez.k12.co.us/our-schools/mchs/calendar/883628
 0/panthers-boys-basketball-bayfield
DTSTART:20260131T203000Z
DTEND:20260201T040000Z
END:VEVENT
END:VCALENDAR
