BEGIN:VCALENDAR
VERSION:2.0
PRODID:SchoolNow
CALSCALE:GREGORIAN
BEGIN:VEVENT
UID:09dc169c-1fe6-11f1-bc2d-0a58a9feac02
DTSTAMP:20260421T090040Z
SUMMARY:Girls Soccer v. Ridgeway
LOCATION:Montezuma-Cortez High School\, 418 Sligo St\, Cortez\, CO 81321\, 
 USA
URL;VALUE=URI:https://www.cortez.k12.co.us/our-schools/mchs/calendar/891797
 1/girls-soccer-v-ridgeway
DTSTART:20260317T220000Z
DTEND:20260317T230000Z
END:VEVENT
END:VCALENDAR
