BEGIN:VCALENDAR
VERSION:2.0
PRODID:SchoolNow
CALSCALE:GREGORIAN
BEGIN:VEVENT
UID:09dc236c-1fe6-11f1-a5d8-0a58a9feac02
DTSTAMP:20260421T090040Z
SUMMARY:Freshman Night
LOCATION:Montezuma-Cortez High School\, 418 Sligo St\, Cortez\, CO 81321\, 
 USA
URL;VALUE=URI:https://www.cortez.k12.co.us/our-schools/mchs/calendar/891798
 0/freshman-night
DTSTART:20260316T233000Z
DTEND:20260317T010000Z
ATTACH;FILENAME=Freshman Night.jpg;FMTTYPE=image/jpeg:https://drive.google.
 com/open?id=1GvcBDnvx7OMNkYSnbzkWSyGwWHFrq2Nj
END:VEVENT
END:VCALENDAR
